BEGIN:VCALENDAR
PRODID:-//KinoKlub//iCal4j 1.0//EN
VERSION:2.0
CALSCALE:GREGORIAN
BEGIN:VEVENT
DTSTAMP:20260419T125822Z
DTSTART:20181201T191500Z
DTEND:20181201T205700Z
SUMMARY:Nôž v srdci
UID:20260419T125822Z-1@kinoklub.sk
TZID:Europe/Prague
LOCATION:Hviezdoslavovo nám. 17\, Bratis
 lava (Mladosť)
DESCRIPTION:Nôž v srdci je krásny\, jemn
 ý\, atmosférický triler s krimi zápletk
 ou z prostredia pormo priemyslu. Yann G
 onzalez\, minuloročný víťaz našej súťaž
 e krátkych filmov\, sa hrá sa s kódmi ž
 ánrovej kinematog...\n\nhttps://kinoklu
 b.sk/film/3840/noz-v-srdci
END:VEVENT
END:VCALENDAR
