BEGIN:VCALENDAR
PRODID:-//KinoKlub//iCal4j 1.0//EN
VERSION:2.0
CALSCALE:GREGORIAN
BEGIN:VEVENT
DTSTAMP:20260421T090654Z
DTSTART:20181201T144500Z
DTEND:20181201T161900Z
SUMMARY:Styx
UID:20260421T090654Z-1@kinoklub.sk
TZID:Europe/Prague
LOCATION:Špitálska 4\, Bratislava-Staré 
 Mesto (Lumière)
DESCRIPTION:Rike – štyridsaťročná doktor
 ka z Európy je typickým západným príkla
 dom šťastia a úspechu. Je vzdelaná\, se
 bavedomá\, odhodlaná a oddaná. Sme sved
 kami Rikinho každodenného života doktor
 ky na pohotovos...\n\nhttps://kinoklub.
 sk/film/3857/styx
END:VEVENT
END:VCALENDAR
