BEGIN:VCALENDAR
PRODID:-//KinoKlub//iCal4j 1.0//EN
VERSION:2.0
CALSCALE:GREGORIAN
BEGIN:VEVENT
DTSTAMP:20260425T114307Z
DTSTART:20200930T143000Z
DTEND:20200930T160100Z
SUMMARY:Kanály
UID:20260425T114309Z-1@kinoklub.sk
TZID:Europe/Prague
LOCATION:Špitálska 4\, Bratislava-Staré 
 Mesto (Lumière)
DESCRIPTION:Dej sa odohráva koncom septe
 mbra 1944. Varšavské povstanie je rozpt
 ýlené\, Nemci dobývajú jednu pozíciu za
  druhou. Skupina bojovníkov sa utiahne 
 do kanalizačného systému mesta. Muži a 
 ženy sú ochotn...\n\nhttps://kinoklub.s
 k/film/4341/kanaly
END:VEVENT
END:VCALENDAR
