BEGIN:VCALENDAR
PRODID:-//KinoKlub//iCal4j 1.0//EN
VERSION:2.0
CALSCALE:GREGORIAN
BEGIN:VEVENT
DTSTAMP:20260425T123054Z
DTSTART:20200930T150000Z
DTEND:20200930T163500Z
SUMMARY:Pre Samu
UID:20260425T123055Z-1@kinoklub.sk
TZID:Europe/Prague
LOCATION:Špitálska 4\, Bratislava-Staré 
 Mesto (Lumière)
DESCRIPTION:Film Pre Samu je intímnym a 
 zároveň epickým príbehom vojny\, rozpov
 edaným cez prizmu ženskej protagonistky
 . Je to ľúbostný list matky dcére. Waad
  al-Kateab opisuje svoj život počas pia
 tich rokov neu...\n\nhttps://kinoklub.s
 k/film/4763/pre-samu
END:VEVENT
END:VCALENDAR
