BEGIN:VCALENDAR
PRODID:-//KinoKlub//iCal4j 1.0//EN
VERSION:2.0
CALSCALE:GREGORIAN
BEGIN:VEVENT
DTSTAMP:20260425T114418Z
DTSTART:20201001T151500Z
DTEND:20201001T162300Z
SUMMARY:Morava\, krásná zem III
UID:20260425T114419Z-1@kinoklub.sk
TZID:Europe/Prague
LOCATION:Špitálska 4\, Bratislava-Staré 
 Mesto (Lumière)
DESCRIPTION:Posledný diel trilógie refle
 ktujúcej históriu\, identitu a kultúru 
 Moravy ako autonómnej enklávy svojho dr
 uhu. Ivana Slabáková\, speváčka legendá
 rnej kapely Moravanka\, ohlasuje nález 
 historickej senz...\n\nhttps://kinoklub
 .sk/film/4788/morava-krasna-zem-iii
END:VEVENT
END:VCALENDAR
