BEGIN:VCALENDAR
PRODID:-//KinoKlub//iCal4j 1.0//EN
VERSION:2.0
CALSCALE:GREGORIAN
BEGIN:VEVENT
DTSTAMP:20260425T114417Z
DTSTART:20201001T174500Z
DTEND:20201001T201800Z
SUMMARY:Eden
UID:20260425T114417Z-1@kinoklub.sk
TZID:Europe/Prague
LOCATION:Špitálska 4\, Bratislava-Staré 
 Mesto (Lumière)
DESCRIPTION:Film o tom\, ako ľudstvo nem
 á kam utiecť pred sebou samým. Éva trpí
  alergiou na množstvo chemických látok\
 , znečistený vzduch\, rádiové vlny a el
 ektrické polia. Musí žiť v úplnej izolá
 cii\, čo jej znem...\n\nhttps://kinoklu
 b.sk/film/4801/eden
END:VEVENT
END:VCALENDAR
