BEGIN:VCALENDAR
PRODID:-//KinoKlub//iCal4j 1.0//EN
VERSION:2.0
CALSCALE:GREGORIAN
BEGIN:VEVENT
DTSTAMP:20260425T114348Z
DTSTART:20201001T183000Z
DTEND:20201001T200300Z
SUMMARY:Hra
UID:20260425T114350Z-1@kinoklub.sk
TZID:Europe/Prague
LOCATION:Špitálska 4\, Bratislava-Staré 
 Mesto (Lumière)
DESCRIPTION:Svet Petra\, mladého riadite
 ľa oblastného divadla\, sa začne rozpad
 ať\, keď sa rozhodne uskutočniť svoj se
 n\, ambicióznu adaptáciu Euripidovej kl
 asickej drámy o Faidre (Hippolytos). Po
 čas skúšok príde ...\n\nhttps://kinoklu
 b.sk/film/4795/hra
END:VEVENT
END:VCALENDAR
