BEGIN:VCALENDAR
PRODID:-//KinoKlub//iCal4j 1.0//EN
VERSION:2.0
CALSCALE:GREGORIAN
BEGIN:VEVENT
DTSTAMP:20260425T114240Z
DTSTART:20201001T153000Z
DTEND:20201001T172700Z
SUMMARY:Alchymická pec
UID:20260425T114241Z-1@kinoklub.sk
TZID:Europe/Prague
LOCATION:Špitálska 4\, Bratislava-Staré 
 Mesto (Lumière)
DESCRIPTION:Dokument „Alchymická pec“ je
  výnimočným portrétom jedného z medziná
 rodne najuznávanejších predstaviteľov č
 esko-slovenskej kinematografie – origin
 álneho surrealistického tvorcu\, režisé
 ra a výtvarník...\n\nhttps://kinoklub.s
 k/film/4727/alchymicka-pec
END:VEVENT
END:VCALENDAR
