BEGIN:VCALENDAR
PRODID:-//KinoKlub//iCal4j 1.0//EN
VERSION:2.0
CALSCALE:GREGORIAN
BEGIN:VEVENT
DTSTAMP:20260425T114142Z
DTSTART:20201002T153000Z
DTEND:20201002T162200Z
SUMMARY:Everest - Najťažšia cesta
UID:20260425T114144Z-1@kinoklub.sk
TZID:Europe/Prague
LOCATION:Špitálska 4\, Bratislava-Staré 
 Mesto (Lumière)
DESCRIPTION:Na najvyššej hore sveta Moun
 t Evereste je najstrmšou a najťažšou ju
 hozápadná stena. Jej prelezenie bolo sv
 etovou výzvou\, a preto sa o to pokúšal
 o mnoho veľkých medzinárodných expedíci
 í. Až v roku 1...\n\nhttps://kinoklub.s
 k/film/4926/everest-najtazsia-cesta
END:VEVENT
END:VCALENDAR
