BEGIN:VCALENDAR
PRODID:-//KinoKlub//iCal4j 1.0//EN
VERSION:2.0
CALSCALE:GREGORIAN
BEGIN:VEVENT
DTSTAMP:20260425T114018Z
DTSTART:20201002T154500Z
DTEND:20201002T170500Z
SUMMARY:Jiří Trnka: Nalezený přítel
UID:20260425T114018Z-1@kinoklub.sk
TZID:Europe/Prague
LOCATION:Špitálska 4\, Bratislava-Staré 
 Mesto (Lumière)
DESCRIPTION:Dokumentárny film o Jiřím Tr
 nkovi (1912 – 1969)\, jednom z najväčší
 ch a najvšestrannejších českých umelcov
  20. storočia\, ktorému sa podarilo výz
 namne ovplyvniť umelecké dianie vo svet
 ovom meradle. O...\n\nhttps://kinoklub.
 sk/film/4776/jiri-trnka-nalezeny-pritel
 
END:VEVENT
END:VCALENDAR
