BEGIN:VCALENDAR
PRODID:-//KinoKlub//iCal4j 1.0//EN
VERSION:2.0
CALSCALE:GREGORIAN
BEGIN:VEVENT
DTSTAMP:20260425T114347Z
DTSTART:20201002T173000Z
DTEND:20201002T190000Z
SUMMARY:Raj na zemi
UID:20260425T114347Z-1@kinoklub.sk
TZID:Europe/Prague
LOCATION:Špitálska 4\, Bratislava-Staré 
 Mesto (Lumière)
DESCRIPTION:Dokumentárny film\, zachytáv
 ajúci profesionálny aj súkromný  osud r
 eportéra Andreja Bána. Režisér Jaro Voj
 tek sníma prostredníctvom intímnych roz
 hovorov počas spoločných ciest Andrejov
  osobný príbeh...\n\nhttps://kinoklub.s
 k/film/4465/raj-na-zemi
END:VEVENT
END:VCALENDAR
