BEGIN:VCALENDAR
PRODID:-//KinoKlub//iCal4j 1.0//EN
VERSION:2.0
CALSCALE:GREGORIAN
BEGIN:VEVENT
DTSTAMP:20260425T114308Z
DTSTART:20201002T181500Z
DTEND:20201002T195800Z
SUMMARY:Nina Wu
UID:20260425T114310Z-1@kinoklub.sk
TZID:Europe/Prague
LOCATION:Špitálska 4\, Bratislava-Staré 
 Mesto (Lumière)
DESCRIPTION:Po ôsmich rokoch účinkovania
  v úmorných vedľajších úlohách sa ambic
 ióznej herečke Nine Wu konečne podarí p
 reraziť v hlavnej role špionážneho tril
 eru. Je to náročná úloha\, ktorá si vyž
 aduje úplnú na...\n\nhttps://kinoklub.s
 k/film/4774/nina-wu
END:VEVENT
END:VCALENDAR
