BEGIN:VCALENDAR
PRODID:-//KinoKlub//iCal4j 1.0//EN
VERSION:2.0
CALSCALE:GREGORIAN
BEGIN:VEVENT
DTSTAMP:20260425T114143Z
DTSTART:20201002T183000Z
DTEND:20201002T201300Z
SUMMARY:Zombi Child
UID:20260425T114145Z-1@kinoklub.sk
TZID:Europe/Prague
LOCATION:Špitálska 4\, Bratislava-Staré 
 Mesto (Lumière)
DESCRIPTION:Haiti\, 1962. Mŕtvy muž ožij
 e\, no čaká ho peklo na zemi v podobe o
 trockej práce na trstinových plantážach
 . O päťdesiatpäť rokov neskôr sa v Parí
 ži na prestížnej internátnej škole mlad
 é dievča z Hait...\n\nhttps://kinoklub.
 sk/film/4805/zombi-child
END:VEVENT
END:VCALENDAR
