BEGIN:VCALENDAR
PRODID:-//KinoKlub//iCal4j 1.0//EN
VERSION:2.0
CALSCALE:GREGORIAN
BEGIN:VEVENT
DTSTAMP:20260425T114144Z
DTSTART:20201003T111500Z
DTEND:20201003T125300Z
SUMMARY:Chlapec a pelikán
UID:20260425T114147Z-1@kinoklub.sk
TZID:Europe/Prague
LOCATION:Špitálska 4\, Bratislava-Staré 
 Mesto (Lumière)
DESCRIPTION:Chlapec a pelikán je dojemný
  příběh o neobvyklých přátelstvích a be
 zpodmínečné lásce. Mike Kingley vypráví
  vnučce příběh ze svého dětství\, které
  po smrti své matky prožil s otcem na o
 puštěném austr...\n\nhttps://kinoklub.s
 k/film/4257/chlapec-a-pelikan
END:VEVENT
END:VCALENDAR
