BEGIN:VCALENDAR
PRODID:-//KinoKlub//iCal4j 1.0//EN
VERSION:2.0
CALSCALE:GREGORIAN
BEGIN:VEVENT
DTSTAMP:20260425T114124Z
DTSTART:20201003T113000Z
DTEND:20201003T131800Z
SUMMARY:Prvá láska
UID:20260425T114124Z-1@kinoklub.sk
TZID:Europe/Prague
LOCATION:Špitálska 4\, Bratislava-Staré 
 Mesto (Lumière)
DESCRIPTION:Film zachytáva jednu strasti
 plnú noc v Tokiu\, keď mladý boxer Leo 
 stretáva svoju „prvú lásku“ Monicu\, pr
 ostitútku závislú od drog\, ktorá si na
 priek temnému osudu zachováva nevinnosť
 . Leo netuší\, že...\n\nhttps://kinoklu
 b.sk/film/4759/prva-laska
END:VEVENT
END:VCALENDAR
