BEGIN:VCALENDAR
PRODID:-//KinoKlub//iCal4j 1.0//EN
VERSION:2.0
CALSCALE:GREGORIAN
BEGIN:VEVENT
DTSTAMP:20260425T114215Z
DTSTART:20201003T130000Z
DTEND:20201003T140000Z
SUMMARY:Zlatý vek
UID:20260425T114215Z-1@kinoklub.sk
TZID:Europe/Prague
LOCATION:Špitálska 4\, Bratislava-Staré 
 Mesto (Lumière)
DESCRIPTION:Na ostrove Malorka žijú špin
 aví a groteskne hrôzostrašní ľudia. K j
 eho brehom sa priplavia poslovia civili
 zovaného sveta v podobe arcibiskupov. T
 í nachádzajú pôvodných obyvateľov v roz
 klade – doslo...\n\nhttps://kinoklub.sk
 /film/4778/zlaty-vek
END:VEVENT
END:VCALENDAR
