BEGIN:VCALENDAR
PRODID:-//KinoKlub//iCal4j 1.0//EN
VERSION:2.0
CALSCALE:GREGORIAN
BEGIN:VEVENT
DTSTAMP:20260425T114242Z
DTSTART:20201003T133000Z
DTEND:20201003T152100Z
SUMMARY:Karel\, já a ty
UID:20260425T114245Z-1@kinoklub.sk
TZID:Europe/Prague
LOCATION:Špitálska 4\, Bratislava-Staré 
 Mesto (Lumière)
DESCRIPTION:Úvaha o stálosti vzťahov\, o
  možnosti vybrať si jedného partnera na
  život\, respektíve o všeobecnej životn
 ej situácii človeka okolo tridsiatky zo
  ženského aj z mužského pohľadu tu a te
 raz. Konkrétnym...\n\nhttps://kinoklub.
 sk/film/4760/karel-ja-a-ty
END:VEVENT
END:VCALENDAR
