BEGIN:VCALENDAR
PRODID:-//KinoKlub//iCal4j 1.0//EN
VERSION:2.0
CALSCALE:GREGORIAN
BEGIN:VEVENT
DTSTAMP:20260425T114321Z
DTSTART:20201003T140000Z
DTEND:20201003T144500Z
SUMMARY:Maškrtné medvedie príbehy
UID:20260425T114323Z-1@kinoklub.sk
TZID:Europe/Prague
LOCATION:Špitálska 4\, Bratislava-Staré 
 Mesto (Lumière)
DESCRIPTION:Jeden je veľký a druhý krpat
 ý. Ten veľký\, to je Nedvěd a ten malý 
 sa volá Miška. Sú to medvede a sú stále
  hladné. Spolu podnikajú tie najblázniv
 ejšie dobrodružstvá\, aby si čo najjedn
 oduchšie naplni...\n\nhttps://kinoklub.
 sk/film/4790/maskrtne-medvedie-pribehy
END:VEVENT
END:VCALENDAR
