BEGIN:VCALENDAR
PRODID:-//KinoKlub//iCal4j 1.0//EN
VERSION:2.0
CALSCALE:GREGORIAN
BEGIN:VEVENT
DTSTAMP:20260425T114241Z
DTSTART:20201003T143000Z
DTEND:20201003T160200Z
SUMMARY:Milan Sládek
UID:20260425T114243Z-1@kinoklub.sk
TZID:Europe/Prague
LOCATION:Špitálska 4\, Bratislava-Staré 
 Mesto (Lumière)
DESCRIPTION:Dokumentárny film o výnimočn
 ej osobnosti slovenskej kultúry zachytá
 va jej tvorivú i životnú cestu\, bohatú
  na neočakávané zvraty. Milan Sládek st
 ál na začiatku 60. rokov pri zrode mode
 rnej slovenske...\n\nhttps://kinoklub.s
 k/film/4789/milan-sladek
END:VEVENT
END:VCALENDAR
