BEGIN:VCALENDAR
PRODID:-//KinoKlub//iCal4j 1.0//EN
VERSION:2.0
CALSCALE:GREGORIAN
BEGIN:VEVENT
DTSTAMP:20260425T114419Z
DTSTART:20201003T180000Z
DTEND:20201003T195600Z
SUMMARY:Žaby bez jazyka
UID:20260425T114421Z-1@kinoklub.sk
TZID:Europe/Prague
LOCATION:Špitálska 4\, Bratislava-Staré 
 Mesto (Lumière)
DESCRIPTION:Ostrý a nekompromisný pohľad
  na domáce násilie. – Jeden deň zo živo
 ta Jaroslava K.\, ktorý pracuje ako vod
 ič sanitky. Jaroslav K. je pekný muž\, 
 zdanlivo dobrosrdečný a jemný syn\, man
 žel a otec. V sk...\n\nhttps://kinoklub
 .sk/film/4770/zaby-bez-jazyka
END:VEVENT
END:VCALENDAR
