BEGIN:VCALENDAR
PRODID:-//KinoKlub//iCal4j 1.0//EN
VERSION:2.0
CALSCALE:GREGORIAN
BEGIN:VEVENT
DTSTAMP:20260425T114142Z
DTSTART:20201003T181500Z
DTEND:20201003T200400Z
SUMMARY:Gangster\, poliš a diabol
UID:20260425T114143Z-1@kinoklub.sk
TZID:Europe/Prague
LOCATION:Špitálska 4\, Bratislava-Staré 
 Mesto (Lumière)
DESCRIPTION:Džang\, neľútostný a obávaný
  šéf gangu zvaného Zeus\, sa jednej daž
 divej noci zapletie do roztržky. Útoční
 k ho napadne bez varovania a Džang skon
 čí s vážnymi zraneniami. Aj keď sa po t
 akmer fatálnom ...\n\nhttps://kinoklub.
 sk/film/4807/gangster-polis-a-diabol
END:VEVENT
END:VCALENDAR
