BEGIN:VCALENDAR
PRODID:-//KinoKlub//iCal4j 1.0//EN
VERSION:2.0
CALSCALE:GREGORIAN
BEGIN:VEVENT
DTSTAMP:20260425T114348Z
DTSTART:20201003T183000Z
DTEND:20201003T201500Z
SUMMARY:Psi nenosia nohavice
UID:20260425T114349Z-1@kinoklub.sk
TZID:Europe/Prague
LOCATION:Špitálska 4\, Bratislava-Staré 
 Mesto (Lumière)
DESCRIPTION:Drsná „romantická“ sadomasoc
 histická komédia pre divákov\, ktorých 
 už šablónovité americké romantické komé
 die nudia. Hlavným hrdinom je muž menom
  Juha\, ktorému zomrela žena. Juha dlho
  nie je schopný...\n\nhttps://kinoklub.
 sk/film/4773/psi-nenosia-nohavice
END:VEVENT
END:VCALENDAR
