BEGIN:VCALENDAR
PRODID:-//KinoKlub//iCal4j 1.0//EN
VERSION:2.0
CALSCALE:GREGORIAN
BEGIN:VEVENT
DTSTAMP:20260425T114321Z
DTSTART:20201004T143000Z
DTEND:20201004T160200Z
SUMMARY:Ďaleko od Reykjavíku
UID:20260425T114322Z-1@kinoklub.sk
TZID:Europe/Prague
LOCATION:Špitálska 4\, Bratislava-Staré 
 Mesto (Lumière)
DESCRIPTION:Film Ďaleko od Reykjavíku sa
  odohráva v malej islandskej farmárskej
  komunite a zachytáva príbeh Ingy\, far
 márky v strednom veku\, ktorá sa postav
 í proti nadvláde miestneho družstva. In
 ga sa snaží\, ab...\n\nhttps://kinoklub
 .sk/film/4766/daleko-od-reykjaviku
END:VEVENT
END:VCALENDAR
