BEGIN:VCALENDAR
PRODID:-//KinoKlub//iCal4j 1.0//EN
VERSION:2.0
CALSCALE:GREGORIAN
BEGIN:VEVENT
DTSTAMP:20260425T113650Z
DTSTART:20201004T150000Z
DTEND:20201004T164600Z
SUMMARY:Atlantída
UID:20260425T113651Z-1@kinoklub.sk
TZID:Europe/Prague
LOCATION:Špitálska 4\, Bratislava-Staré 
 Mesto (Lumière)
DESCRIPTION:Východ Ukrajiny\, blízka bud
 úcnosť. Neobývateľná púšť. Serhij\, býv
 alý vojak trpiaci posttraumatickou stre
 sovou poruchou\, sa neúspešne snaží pri
 spôsobiť novej realite: znivočenej kraj
 ine\, životu v tr...\n\nhttps://kinoklu
 b.sk/film/4800/atlantida
END:VEVENT
END:VCALENDAR
