BEGIN:VCALENDAR
PRODID:-//KinoKlub//iCal4j 1.0//EN
VERSION:2.0
CALSCALE:GREGORIAN
BEGIN:VEVENT
DTSTAMP:20260425T113531Z
DTSTART:20200930T150000Z
DTEND:20200930T170200Z
SUMMARY:Kráľovstvo
UID:20260425T113531Z-1@kinoklub.sk
TZID:Europe/Prague
LOCATION:Hviezdoslavovo nám. 17\, Bratis
 lava (Mladosť)
DESCRIPTION:Strhující thriller\, který j
 e bezesporu španělskou filmovou událost
 í roku 2018 pro své téma a až klinicky 
 chladné odkrývání principů korupce. Man
 uel zastává vysokou pozici v politické 
 straně. Jednoh...\n\nhttps://kinoklub.s
 k/film/4570/kralovstvo
END:VEVENT
END:VCALENDAR
