BEGIN:VCALENDAR
PRODID:-//KinoKlub//iCal4j 1.0//EN
VERSION:2.0
CALSCALE:GREGORIAN
BEGIN:VEVENT
DTSTAMP:20260425T114305Z
DTSTART:20200930T144500Z
DTEND:20200930T144500Z
SUMMARY:Pásmo súťažných filmov I (Febiof
 est 2020)
UID:20260425T114305Z-1@kinoklub.sk
TZID:Europe/Prague
LOCATION:Špitálska 4\, Bratislava-Staré 
 Mesto (Lumière)
DESCRIPTION:null\n\nhttps://kinoklub.sk/
 film/4946/pasmo-sutaznych-filmov-i-febi
 ofest-2020
END:VEVENT
END:VCALENDAR
