BEGIN:VCALENDAR
PRODID:-//KinoKlub//iCal4j 1.0//EN
VERSION:2.0
CALSCALE:GREGORIAN
BEGIN:VEVENT
DTSTAMP:20260425T114019Z
DTSTART:20201001T150000Z
DTEND:20201001T161200Z
SUMMARY:Lekcie z lásky
UID:20260425T114020Z-1@kinoklub.sk
TZID:Europe/Prague
LOCATION:Hviezdoslavovo nám. 17\, Bratis
 lava (Mladosť)
DESCRIPTION:Slobodomyseľná Jola sa rozho
 dla ukončiť roky trvajúcu nočnú moru a 
 vymaniť sa z okov násilného manželstva.
  Spolu s kamarátkami si vyrazí na hodin
 y latino tanca\, kde sa zamiluje. Dráma
  sa však nekon...\n\nhttps://kinoklub.s
 k/film/4762/lekcie-z-lasky
END:VEVENT
END:VCALENDAR
