BEGIN:VCALENDAR
PRODID:-//KinoKlub//iCal4j 1.0//EN
VERSION:2.0
CALSCALE:GREGORIAN
BEGIN:VEVENT
DTSTAMP:20260425T114124Z
DTSTART:20201002T150000Z
DTEND:20201002T170400Z
SUMMARY:Dospeláci v miestnosti
UID:20260425T114125Z-1@kinoklub.sk
TZID:Europe/Prague
LOCATION:Hviezdoslavovo nám. 17\, Bratis
 lava (Mladosť)
DESCRIPTION:Film vznikol podľa knihy Dos
 peláci v miestnosti. Môj boj s európsky
 m establišmentom\, politických memoárov
  Janisa Varoufakisa\, gréckeho ekonóma\
 , akademika\, filozofa a politika. Za z
 atvorenými dveram...\n\nhttps://kinoklu
 b.sk/film/4756/dospelaci-v-miestnosti
END:VEVENT
END:VCALENDAR
