BEGIN:VCALENDAR
PRODID:-//KinoKlub//iCal4j 1.0//EN
VERSION:2.0
CALSCALE:GREGORIAN
BEGIN:VEVENT
DTSTAMP:20260425T114216Z
DTSTART:20201002T160000Z
DTEND:20201002T160000Z
SUMMARY:Pásmo súťažných filmov III (Febi
 ofest 2020)
UID:20260425T114218Z-1@kinoklub.sk
TZID:Europe/Prague
LOCATION:Špitálska 4\, Bratislava-Staré 
 Mesto (Lumière)
DESCRIPTION:null\n\nhttps://kinoklub.sk/
 film/4958/pasmo-sutaznych-filmov-iii-fe
 biofest-2020
END:VEVENT
END:VCALENDAR
