BEGIN:VCALENDAR
PRODID:-//KinoKlub//iCal4j 1.0//EN
VERSION:2.0
CALSCALE:GREGORIAN
BEGIN:VEVENT
DTSTAMP:20260425T113806Z
DTSTART:20201003T110000Z
DTEND:20201003T123400Z
SUMMARY:Los Bando
UID:20260425T113806Z-1@kinoklub.sk
TZID:Europe/Prague
LOCATION:Hviezdoslavovo nám. 17\, Bratis
 lava (Mladosť)
DESCRIPTION:Dvaja najlepší kamaráti\, Gr
 im a Axel\, odmalička snívajú o tom\, ž
 e sa zúčastnia Rockových majstrovstiev 
 v Nórsku. Grim je bubeník a Axel hrá na
  gitaru. Majú spolu kapelu Los Bando Im
 mortale. Axelov ...\n\nhttps://kinoklub
 .sk/film/4791/los-bando
END:VEVENT
END:VCALENDAR
