BEGIN:VCALENDAR
PRODID:-//KinoKlub//iCal4j 1.0//EN
VERSION:2.0
CALSCALE:GREGORIAN
BEGIN:VEVENT
DTSTAMP:20260425T114306Z
DTSTART:20201003T150000Z
DTEND:20201003T164700Z
SUMMARY:Kým sa skončí vojna
UID:20260425T114307Z-1@kinoklub.sk
TZID:Europe/Prague
LOCATION:Hviezdoslavovo nám. 17\, Bratis
 lava (Mladosť)
DESCRIPTION:Kým sa skončí vojna je emotí
 vna dráma\, ktorá sa odohráva v Španiel
 sku v roku 1936 po vypuknutí občianskej
  vojny\, ale jej príbeh je aktuálny aj 
 pre našu súčasnosť. Slávny spisovateľ M
 iguel de Unamun...\n\nhttps://kinoklub.
 sk/film/4761/kym-sa-skonci-vojna
END:VEVENT
END:VCALENDAR
