BEGIN:VCALENDAR
PRODID:-//KinoKlub//iCal4j 1.0//EN
VERSION:2.0
CALSCALE:GREGORIAN
BEGIN:VEVENT
DTSTAMP:20260425T113805Z
DTSTART:20201003T180000Z
DTEND:20201003T193500Z
SUMMARY:Pre Samu
UID:20260425T113805Z-1@kinoklub.sk
TZID:Europe/Prague
LOCATION:Hviezdoslavovo nám. 17\, Bratis
 lava (Mladosť)
DESCRIPTION:Film Pre Samu je intímnym a 
 zároveň epickým príbehom vojny\, rozpov
 edaným cez prizmu ženskej protagonistky
 . Je to ľúbostný list matky dcére. Waad
  al-Kateab opisuje svoj život počas pia
 tich rokov neu...\n\nhttps://kinoklub.s
 k/film/4763/pre-samu
END:VEVENT
END:VCALENDAR
