BEGIN:VCALENDAR
PRODID:-//KinoKlub//iCal4j 1.0//EN
VERSION:2.0
CALSCALE:GREGORIAN
BEGIN:VEVENT
DTSTAMP:20260425T114011Z
DTSTART:20201003T160000Z
DTEND:20201003T160000Z
SUMMARY:Pásmo súťažných filmov IV (Febio
 fest 2020)
UID:20260425T114011Z-1@kinoklub.sk
TZID:Europe/Prague
LOCATION:Špitálska 4\, Bratislava-Staré 
 Mesto (Lumière)
DESCRIPTION:null\n\nhttps://kinoklub.sk/
 film/4964/pasmo-sutaznych-filmov-iv-feb
 iofest-2020
END:VEVENT
END:VCALENDAR
