BEGIN:VCALENDAR
PRODID:-//KinoKlub//iCal4j 1.0//EN
VERSION:2.0
CALSCALE:GREGORIAN
BEGIN:VEVENT
DTSTAMP:20260425T123032Z
DTSTART:20201004T113000Z
DTEND:20201004T130700Z
SUMMARY:Rocca mení svet
UID:20260425T123032Z-1@kinoklub.sk
TZID:Europe/Prague
LOCATION:Špitálska 4\, Bratislava-Staré 
 Mesto (Lumière)
DESCRIPTION:Život neohrožené a zábavné R
 occy (11) je všechno\, jen ne obyčejný.
  Její otec na ni jako astronaut sice do
 hlíží z výšin vesmíru\, dole na Zemi vš
 ak bydlí sama jen se svou veverkou. Pop
 rvé v životě na...\n\nhttps://kinoklub.
 sk/film/4260/rocca-meni-svet
END:VEVENT
END:VCALENDAR
