BEGIN:VCALENDAR
PRODID:-//KinoKlub//iCal4j 1.0//EN
VERSION:2.0
CALSCALE:GREGORIAN
BEGIN:VEVENT
DTSTAMP:20260425T114322Z
DTSTART:20201004T114500Z
DTEND:20201004T130200Z
SUMMARY:Jelenica
UID:20260425T114324Z-1@kinoklub.sk
TZID:Europe/Prague
LOCATION:Špitálska 4\, Bratislava-Staré 
 Mesto (Lumière)
DESCRIPTION:Hlavnou postavou filmu Jelen
 ica je štyridsaťštyriročný Georges. Jeh
 o posadnutosť dizajnovou bundou z jelen
 ej kože ho prinúti premrhať celoživotné
  úspory a vybrať sa na cestu zločinu.\n
 \nhttps://kinoklub.sk/film/4794/jelenic
 a
END:VEVENT
END:VCALENDAR
