BEGIN:VCALENDAR
PRODID:-//KinoKlub//iCal4j 1.0//EN
VERSION:2.0
CALSCALE:GREGORIAN
BEGIN:VEVENT
DTSTAMP:20260425T114010Z
DTSTART:20201004T120000Z
DTEND:20201004T134100Z
SUMMARY:Tam\, kde je tráva zelenšia
UID:20260425T114010Z-1@kinoklub.sk
TZID:Europe/Prague
LOCATION:Špitálska 4\, Bratislava-Staré 
 Mesto (Lumière)
DESCRIPTION:Jill a Lisa žijú so svojimi 
 šťastnými rodinami v dokonalých domoch 
 snov uprostred idylickej predmestskej k
 omunity. Dni trávia v obchodoch\, rozho
 vormi o móde a na oslavách narodenín\, 
 kde susedám chv...\n\nhttps://kinoklub.
 sk/film/4782/tam-kde-je-trava-zelensia
END:VEVENT
END:VCALENDAR
