BEGIN:VCALENDAR
PRODID:-//KinoKlub//iCal4j 1.0//EN
VERSION:2.0
CALSCALE:GREGORIAN
BEGIN:VEVENT
DTSTAMP:20260425T114103Z
DTSTART:20201004T133000Z
DTEND:20201004T154200Z
SUMMARY:Dôstojník a špión
UID:20260425T114105Z-1@kinoklub.sk
TZID:Europe/Prague
LOCATION:Špitálska 4\, Bratislava-Staré 
 Mesto (Lumière)
DESCRIPTION:Piaty január 1895 sa stal os
 udným dňom pre kapitána Alfreda Dreyfus
 a\, mladého a nádejného dôstojníka\, kt
 orý obvinili zo špionáže v prospech Nem
 ecka\, pozbavili hodnosti a odsúdili na
  doživotné väzen...\n\nhttps://kinoklub
 .sk/film/4757/dostojnik-a-spion
END:VEVENT
END:VCALENDAR
