BEGIN:VCALENDAR
PRODID:-//KinoKlub//iCal4j 1.0//EN
VERSION:2.0
CALSCALE:GREGORIAN
BEGIN:VEVENT
DTSTAMP:20260425T113923Z
DTSTART:20201004T140000Z
DTEND:20201004T153200Z
SUMMARY:Zizotek
UID:20260425T113923Z-1@kinoklub.sk
TZID:Europe/Prague
LOCATION:Hviezdoslavovo nám. 17\, Bratis
 lava (Mladosť)
DESCRIPTION:Deväťročného Jasona opustí p
 očas folklórnej slávnosti matka. Neobyč
 ajne samostatný chlapec nachádza úkryt 
 v zrube uprostred lesa\, ktorý patrí st
 aršiemu nemému samotárovi Minasovi. Hoc
 i sa ho muž s ...\n\nhttps://kinoklub.s
 k/film/4765/zizotek
END:VEVENT
END:VCALENDAR
