BEGIN:VCALENDAR
PRODID:-//KinoKlub//iCal4j 1.0//EN
VERSION:2.0
CALSCALE:GREGORIAN
BEGIN:VEVENT
DTSTAMP:20260425T114018Z
DTSTART:20201004T173000Z
DTEND:20201004T192600Z
SUMMARY:Corpus Christi
UID:20260425T114019Z-1@kinoklub.sk
TZID:Europe/Prague
LOCATION:Špitálska 4\, Bratislava-Staré 
 Mesto (Lumière)
DESCRIPTION:Božie telo\, najnovší film r
 ežiséra Jana Komasu (Miestnosť samovrah
 ov\, Mesto 44) bol premiérovo uvedený n
 a filmovom festivale v Benátkach. Na Fe
 stivale poľských hraných filmov v Gdyni
  získal 11 ocen...\n\nhttps://kinoklub.
 sk/film/4799/corpus-christi
END:VEVENT
END:VCALENDAR
