BEGIN:VCALENDAR
PRODID:-//KinoKlub//iCal4j 1.0//EN
VERSION:2.0
CALSCALE:GREGORIAN
BEGIN:VEVENT
DTSTAMP:20260425T113845Z
DTSTART:20200930T144500Z
DTEND:20200930T163600Z
SUMMARY:Farba z vesmíru
UID:20260425T113845Z-1@kinoklub.sk
TZID:Europe/Prague
LOCATION:Špitálska 4\, Bratislava-Staré 
 Mesto (Lumière)
DESCRIPTION:Film je adaptáciou rovnomenn
 ej poviedky H. P. Lovecrafta. Rodinu Ga
 rdnerovcov\, ktorá sa presťahovala na o
 dľahlú vidiecku farmu v Novom Anglicku\
 , aby unikla modernému mestskému ruchu\
 , zachváti kozmi...\n\nhttps://kinoklub
 .sk/film/4777/farba-z-vesmiru
END:VEVENT
END:VCALENDAR
