BEGIN:VCALENDAR
PRODID:-//KinoKlub//iCal4j 1.0//EN
VERSION:2.0
CALSCALE:GREGORIAN
BEGIN:VEVENT
DTSTAMP:20260425T114020Z
DTSTART:20200930T160000Z
DTEND:20200930T175000Z
SUMMARY:Modelár
UID:20260425T114021Z-1@kinoklub.sk
TZID:Europe/Prague
LOCATION:Špitálska 4\, Bratislava-Staré 
 Mesto (Lumière)
DESCRIPTION:Príbeh dvoch kamarátov\, kto
 rí prevádzkujú prosperujúcu požičovňu d
 ronov\, sa odohráva v súčasnej Prahe. M
 ajiteľ firmy prezívaný Plech\, vo voľno
 m čase raper\, sníva o veľkých peniazoc
 h a neochvejných ...\n\nhttps://kinoklu
 b.sk/film/4923/modelar
END:VEVENT
END:VCALENDAR
