BEGIN:VCALENDAR
PRODID:-//KinoKlub//iCal4j 1.0//EN
VERSION:2.0
CALSCALE:GREGORIAN
BEGIN:VEVENT
DTSTAMP:20260425T122928Z
DTSTART:20200930T170000Z
DTEND:20200930T193300Z
SUMMARY:Eden
UID:20260425T122929Z-1@kinoklub.sk
TZID:Europe/Prague
LOCATION:Špitálska 4\, Bratislava-Staré 
 Mesto (Lumière)
DESCRIPTION:Film o tom\, ako ľudstvo nem
 á kam utiecť pred sebou samým. Éva trpí
  alergiou na množstvo chemických látok\
 , znečistený vzduch\, rádiové vlny a el
 ektrické polia. Musí žiť v úplnej izolá
 cii\, čo jej znem...\n\nhttps://kinoklu
 b.sk/film/4801/eden
END:VEVENT
END:VCALENDAR
