BEGIN:VCALENDAR
PRODID:-//KinoKlub//iCal4j 1.0//EN
VERSION:2.0
CALSCALE:GREGORIAN
BEGIN:VEVENT
DTSTAMP:20260425T113716Z
DTSTART:20200930T173000Z
DTEND:20200930T192600Z
SUMMARY:Modrý zamat
UID:20260425T113716Z-1@kinoklub.sk
TZID:Europe/Prague
LOCATION:Špitálska 4\, Bratislava-Staré 
 Mesto (Lumière)
DESCRIPTION:Rozprávanie šokujúce rafinov
 aným pohrávaním sa s gýčom i morálkou m
 á dve vrstvy: akčný napínavý príbeh (ml
 adík sa náhodne zapletie do záhadného k
 riminálneho prípadu\, stretne sa s prie
 kupníkmi drog\,...\n\nhttps://kinoklub.
 sk/film/1304/modry-zamat
END:VEVENT
END:VCALENDAR
