BEGIN:VCALENDAR
PRODID:-//KinoKlub//iCal4j 1.0//EN
VERSION:2.0
CALSCALE:GREGORIAN
BEGIN:VEVENT
DTSTAMP:20260425T114347Z
DTSTART:20200930T180000Z
DTEND:20200930T193600Z
SUMMARY:Tiché doteky
UID:20260425T114348Z-1@kinoklub.sk
TZID:Europe/Prague
LOCATION:Špitálska 4\, Bratislava-Staré 
 Mesto (Lumière)
DESCRIPTION:Mia začína pracovať v zahran
 ičí ako opatrovateľka v rodine z vyššej
  spoločenskej vrstvy. Musí sa starať ni
 elen o honosný dom vo vilovej štvrti\, 
 ale predovšetkým o desaťročného Sebasti
 ana. Už prvé s...\n\nhttps://kinoklub.s
 k/film/4781/tiche-doteky
END:VEVENT
END:VCALENDAR
