BEGIN:VCALENDAR
PRODID:-//KinoKlub//iCal4j 1.0//EN
VERSION:2.0
CALSCALE:GREGORIAN
BEGIN:VEVENT
DTSTAMP:20260420T103323Z
DTSTART:20211115T173000Z
DTEND:20211115T182900Z
SUMMARY:Blúdiaci Holanďan Ľubomír Feldek
 
UID:20260420T103323Z-1@kinoklub.sk
TZID:Europe/Prague
LOCATION:Špitálska 4\, Bratislava-Staré 
 Mesto (Lumière)
DESCRIPTION:Ľubomír Feldek patrí k najvý
 znamnejším slovenským básnikom\, public
 istom\, prekladateľom a dramatikom. Pre
 kladal do slovenčiny Shalespeara\, je s
 polutvorcom filmovej Perinbaby a synom 
 neprávom odsúden...\n\nhttps://kinoklub
 .sk/film/5314/bludiaci-holandan-lubomir
 -feldek
END:VEVENT
END:VCALENDAR
