BEGIN:VCALENDAR
PRODID:-//KinoKlub//iCal4j 1.0//EN
VERSION:2.0
CALSCALE:GREGORIAN
BEGIN:VEVENT
DTSTAMP:20260420T103403Z
DTSTART:20211115T190000Z
DTEND:20211115T201400Z
SUMMARY:Biela na bielej
UID:20260420T103403Z-1@kinoklub.sk
TZID:Europe/Prague
LOCATION:Špitálska 4\, Bratislava-Staré 
 Mesto (Lumière)
DESCRIPTION:Biela na bielej formou video
 denníka dokumentuje pobyt režisérky na 
 antarktickej stanici\, kde v roku 2017 
 nakrúcala snímku FREM (2019)\, ktorej h
 lavnou postavou je umelá neurónová sieť
 . Počas pobytu ...\n\nhttps://kinoklub.
 sk/film/5063/biela-na-bielej
END:VEVENT
END:VCALENDAR
