BEGIN:VCALENDAR
PRODID:-//KinoKlub//iCal4j 1.0//EN
VERSION:2.0
CALSCALE:GREGORIAN
BEGIN:VEVENT
DTSTAMP:20260420T102756Z
DTSTART:20211116T173000Z
DTEND:20211116T185700Z
SUMMARY:Efekt Vašulka
UID:20260420T102756Z-1@kinoklub.sk
TZID:Europe/Prague
LOCATION:Špitálska 4\, Bratislava-Staré 
 Mesto (Lumière)
DESCRIPTION:Dielo priekopníkov videoartu
  Steiny a Woodyho Vašulkovcov siaha do 
 konca 60. rokov\, keď žili a pracovali 
 v New Yorku. Predtým sa však spoznali v
  komunistickom Československu\, kde brn
 iansky rodák Bo...\n\nhttps://kinoklub.
 sk/film/4797/efekt-vasulka
END:VEVENT
END:VCALENDAR
