BEGIN:VCALENDAR
PRODID:-//KinoKlub//iCal4j 1.0//EN
VERSION:2.0
CALSCALE:GREGORIAN
BEGIN:VEVENT
DTSTAMP:20260420T103107Z
DTSTART:20211116T193000Z
DTEND:20211116T211500Z
SUMMARY:Christo: Chôdza po vode
UID:20260420T103107Z-1@kinoklub.sk
TZID:Europe/Prague
LOCATION:Špitálska 4\, Bratislava-Staré 
 Mesto (Lumière)
DESCRIPTION:Dokument je pohľadom za kuli
 sy tejto legendy\, biografickým portrét
 om i zábavnou poklonou mužovi\, ktorého
  tvrdohlavosť nerešpektuje žiadne hrani
 ce. Jeho pôsobivé konceptuálne inštalác
 ie menili tvár ...\n\nhttps://kinoklub.
 sk/film/4821/christo-chodza-po-vode
END:VEVENT
END:VCALENDAR
