BEGIN:VCALENDAR
PRODID:-//KinoKlub//iCal4j 1.0//EN
VERSION:2.0
CALSCALE:GREGORIAN
BEGIN:VEVENT
DTSTAMP:20260420T103015Z
DTSTART:20211117T173000Z
DTEND:20211117T182200Z
SUMMARY:Herec Ivan Palúch
UID:20260420T103016Z-1@kinoklub.sk
TZID:Europe/Prague
LOCATION:Špitálska 4\, Bratislava-Staré 
 Mesto (Lumière)
DESCRIPTION:Portrét herca Ivana Palúcha 
 – výraznej osobnosti slovenského filmov
 ého herectva. Počas jeho kariéry sa dot
 kol hviezd\, ale po návrate do Českoslo
 venska doplatil na tvrdé normalizačné o
 bmedzenia – zá...\n\nhttps://kinoklub.s
 k/film/5320/herec-ivan-paluch
END:VEVENT
END:VCALENDAR
