BEGIN:VCALENDAR
PRODID:-//KinoKlub//iCal4j 1.0//EN
VERSION:2.0
CALSCALE:GREGORIAN
BEGIN:VEVENT
DTSTAMP:20260420T103015Z
DTSTART:20211117T193000Z
DTEND:20211117T205200Z
SUMMARY:Králi videa
UID:20260420T103015Z-1@kinoklub.sk
TZID:Europe/Prague
LOCATION:Špitálska 4\, Bratislava-Staré 
 Mesto (Lumière)
DESCRIPTION:Celovečerný dokument s hraný
 mi scénami „Králi videa“ podrobne mapuj
 e scénu dovozu\, kopírovania a dabovani
 a západných filmov v socialistickom čes
 koslovensku a okrajovo aj v Poľsku a Ma
 ďarsku. V dobá...\n\nhttps://kinoklub.s
 k/film/4931/krali-videa
END:VEVENT
END:VCALENDAR
